BEGIN:VCALENDAR
VERSION:2.0
PRODID:-//AKT CCI Hainaut - ECPv6.15.18//NONSGML v1.0//EN
CALSCALE:GREGORIAN
METHOD:PUBLISH
X-ORIGINAL-URL:https://akt-ccih.be
X-WR-CALDESC:Évènements pour AKT CCI Hainaut
REFRESH-INTERVAL;VALUE=DURATION:PT1H
X-Robots-Tag:noindex
X-PUBLISHED-TTL:PT1H
BEGIN:VTIMEZONE
TZID:Europe/Brussels
BEGIN:DAYLIGHT
TZOFFSETFROM:+0100
TZOFFSETTO:+0200
TZNAME:CEST
DTSTART:20250330T010000
END:DAYLIGHT
BEGIN:STANDARD
TZOFFSETFROM:+0200
TZOFFSETTO:+0100
TZNAME:CET
DTSTART:20251026T010000
END:STANDARD
BEGIN:DAYLIGHT
TZOFFSETFROM:+0100
TZOFFSETTO:+0200
TZNAME:CEST
DTSTART:20260329T010000
END:DAYLIGHT
BEGIN:STANDARD
TZOFFSETFROM:+0200
TZOFFSETTO:+0100
TZNAME:CET
DTSTART:20261025T010000
END:STANDARD
BEGIN:DAYLIGHT
TZOFFSETFROM:+0100
TZOFFSETTO:+0200
TZNAME:CEST
DTSTART:20270328T010000
END:DAYLIGHT
BEGIN:STANDARD
TZOFFSETFROM:+0200
TZOFFSETTO:+0100
TZNAME:CET
DTSTART:20271031T010000
END:STANDARD
END:VTIMEZONE
BEGIN:VEVENT
DTSTART;TZID=Europe/Brussels:20260609T140000
DTEND;TZID=Europe/Brussels:20260609T153000
DTSTAMP:20260425T021512
CREATED:20260424T131148Z
LAST-MODIFIED:20260424T155901Z
UID:45623-1781013600-1781019000@akt-ccih.be
SUMMARY:Réforme des aides a l’emploi : le nouvel incitant unique Job Plus - Séance d'info à Charleroi
DESCRIPTION:Le 1er juillet prochain\, la Wallonie réforme ses aides à l’emploi* ! Un nouvel incitant financier unique\, dénommé Incitant Job Plus\, entrera en vigueur à partir de cette date.\nL’ambition ? alléger le coût salarial lors de l’engagement de certains publics tout en simplifiant les démarches administratives pour les entreprises. \nObjectif simplification\nAujourd’hui\, les employeurs doivent naviguer entre plusieurs dispositifs d’aide à l’emploi\, chacun avec ses conditions et ses démarches. Cette complexité sera bientôt remplacée par une approche beaucoup plus lisible. \nOn vous explique tout lors d’une séance d’information :\nLe Forem et AKT CCI Hainaut vous invitent à une séance d’information dédiée aux employeurs le mardi 9 juin à 14h00 à Charleroi au Centre de compétence Technocampus Site Mécatronique (Gosselies). \nPS : veuillez noter qu’une autre séance sera organisée le jeudi 11 juin dès 8h45 à La Louvière au Centre de compétence Forem Logistique. S’inscrire ici pour le 11 juin… \nAu programme : \n\nune présentation claire du nouveau dispositif et des changements dans le paysage des aides\nles profils concernés et les conditions d’accès ;\nles démarches pratiques à prévoir via le Forem ;\ndes conseils pour anticiper l’entrée en vigueur et sécuriser vos recrutements.\n\nParticipation gratuite  sous inscription.\n*Sous réserve de l’adoption définitive de l’Arrêté du Gouvernement wallon \n 
URL:https://akt-ccih.be/evenement/reforme-des-aides-a-lemploi-le-nouvel-incitant-unique-job-plus/
LOCATION:Technocampus (site Mécatronique)\, Rue Auguste Piccard\, 23\, Charleroi\, 6041\, Belgium
CATEGORIES:Séance d’information
ATTACH;FMTTYPE=image/jpeg:https://akt-ccih.be/wp-content/uploads/2026/04/DSC05824-scaled.jpg
END:VEVENT
BEGIN:VEVENT
DTSTART;TZID=Europe/Brussels:20260611T084500
DTEND;TZID=Europe/Brussels:20260611T101500
DTSTAMP:20260425T021512
CREATED:20260424T131621Z
LAST-MODIFIED:20260424T155940Z
UID:45629-1781167500-1781172900@akt-ccih.be
SUMMARY:Réforme des aides a l’emploi : le nouvel incitant unique Job Plus - Séance d'info à La Louvière
DESCRIPTION:Le 1er juillet prochain\, la Wallonie réforme ses aides à l’emploi* ! Un nouvel incitant financier unique\, dénommé Incitant Job Plus\, entrera en vigueur à partir de cette date.\nL’ambition ? alléger le coût salarial lors de l’engagement de certains publics tout en simplifiant les démarches administratives pour les entreprises. \nObjectif simplification\nAujourd’hui\, les employeurs doivent naviguer entre plusieurs dispositifs d’aide à l’emploi\, chacun avec ses conditions et ses démarches. Cette complexité sera bientôt remplacée par une approche beaucoup plus lisible. \nOn vous explique tout lors d’une séance d’information :\nLe Forem et AKT CCI Hainaut vous invitent à une séance d’information dédiée aux employeurs le jeudi 11 juin dès 8h45 à La Louvière au Centre de compétence Forem Logistique. \nPS : veuillez noter qu’une autre séance est organisée le mardi 9 juin à 14h00 à Charleroi au Centre de compétence Technocampus Site Mécatronique (Gosselies). S’inscrire ici pour le 9 juin… \nAu programme : \n\nune présentation claire du nouveau dispositif et des changements dans le paysage des aides\nles profils concernés et les conditions d’accès ;\nles démarches pratiques à prévoir via le Forem ;\ndes conseils pour anticiper l’entrée en vigueur et sécuriser vos recrutements.\n\nParticipation gratuite sous inscription.\n*Sous réserve de l’adoption définitive de l’Arrêté du Gouvernement wallon \n 
URL:https://akt-ccih.be/evenement/reforme-des-aides-a-lemploi-le-nouvel-incitant-unique-job-plus-2/
LOCATION:Centre de compétence Forem Logistique.\, Zoning de Garocentre-Nord\, Boulevard de la Technicité 1\, La Louvière\, 7110\, Belgium
CATEGORIES:Séance d’information
ATTACH;FMTTYPE=image/jpeg:https://akt-ccih.be/wp-content/uploads/2026/04/DSC05824-scaled.jpg
END:VEVENT
END:VCALENDAR