BEGIN:VCALENDAR
VERSION:2.0
PRODID:-//AKT CCI Hainaut - ECPv6.15.18//NONSGML v1.0//EN
CALSCALE:GREGORIAN
METHOD:PUBLISH
X-ORIGINAL-URL:https://akt-ccih.be
X-WR-CALDESC:Évènements pour AKT CCI Hainaut
REFRESH-INTERVAL;VALUE=DURATION:PT1H
X-Robots-Tag:noindex
X-PUBLISHED-TTL:PT1H
BEGIN:VTIMEZONE
TZID:Europe/Brussels
BEGIN:DAYLIGHT
TZOFFSETFROM:+0100
TZOFFSETTO:+0200
TZNAME:CEST
DTSTART:20240331T010000
END:DAYLIGHT
BEGIN:STANDARD
TZOFFSETFROM:+0200
TZOFFSETTO:+0100
TZNAME:CET
DTSTART:20241027T010000
END:STANDARD
BEGIN:DAYLIGHT
TZOFFSETFROM:+0100
TZOFFSETTO:+0200
TZNAME:CEST
DTSTART:20250330T010000
END:DAYLIGHT
BEGIN:STANDARD
TZOFFSETFROM:+0200
TZOFFSETTO:+0100
TZNAME:CET
DTSTART:20251026T010000
END:STANDARD
BEGIN:DAYLIGHT
TZOFFSETFROM:+0100
TZOFFSETTO:+0200
TZNAME:CEST
DTSTART:20260329T010000
END:DAYLIGHT
BEGIN:STANDARD
TZOFFSETFROM:+0200
TZOFFSETTO:+0100
TZNAME:CET
DTSTART:20261025T010000
END:STANDARD
END:VTIMEZONE
BEGIN:VEVENT
DTSTART;TZID=Europe/Brussels:20251212T133000
DTEND;TZID=Europe/Brussels:20251212T163000
DTSTAMP:20260421T102014
CREATED:20250909T100942Z
LAST-MODIFIED:20251204T092807Z
UID:43901-1765546200-1765557000@akt-ccih.be
SUMMARY:Boostez votre productivité avec l'IA intégrée à Microsoft Office
DESCRIPTION:Au programme\n\nDécouverte de Microsoft Copilot et son intégration dans les applications clés (Word\, Excel\, PowerPoint\, Outlook).\nCas d’usage concrets pour améliorer la productivité et automatiser les tâches répétitives.\nTechniques efficaces pour formuler des requêtes (prompts) adaptées à chaque contexte avec Copilot.\nExploration des agents spécialisés pour analyses avancées et recherches.\nAtelier pratique basé sur des documents et données réels\, avec utilisation de Copilot.\nAdoption des bonnes pratiques pour un usage sécurisé et professionnel.\n\nFormateur\nSalomon Besso\, formateur IA \nPublic cible\nProfessionnels utilisant Microsoft Office (équipes support\, fonctions analytiques\, communication\, direction). \nPrérequis\nLicence Microsoft 365 avec Copilot activé. Accès aux applications Office 365 à jour. \nA l’issue de la formation\n\nIdentifier rapidement les usages pertinents de Copilot dans votre travail.\nMaîtriser la formulation des instructions pour maximiser les résultats.\nUtiliser efficacement les outils d’IA intégrés à Microsoft Office.\nGagner du temps et améliorer la qualité de vos documents et présentations.\n\nTarifs\n150 € pour les membres d’AKT CCI Hainaut\, 225 € HTVA pour les non-membres. \nModalités d’inscription\nToute annulation doit nous être signalée par écrit au moins 5 jours ouvrables avant la date de l’activité. En cas d’absence à la formation ou d’une annulation tardive\, la totalité des frais d’inscriptions sera due. Les participants peuvent se faire remplacer. \nContact\nNatalia Ostach (tel. 065/22.65.08)\, Rachaa Ketita (tel. 065/63.25.68)\, formations@akt-ccih.be
URL:https://akt-ccih.be/evenement/boostez-votre-productivite-avec-lia-integree-a-microsoft-office/
LOCATION:AKT CCI Hainaut\, Bâtiment Initium Boulevard André Delvaux 15\, Mons\, 7000\, Belgium
CATEGORIES:Formation
ATTACH;FMTTYPE=image/jpeg:https://akt-ccih.be/wp-content/uploads/2025/09/Microsoft.jpg
END:VEVENT
END:VCALENDAR