BEGIN:VCALENDAR
VERSION:2.0
PRODID:-//AKT CCI Hainaut - ECPv6.15.18//NONSGML v1.0//EN
CALSCALE:GREGORIAN
METHOD:PUBLISH
X-WR-CALNAME:AKT CCI Hainaut
X-ORIGINAL-URL:https://akt-ccih.be
X-WR-CALDESC:Évènements pour AKT CCI Hainaut
REFRESH-INTERVAL;VALUE=DURATION:PT1H
X-Robots-Tag:noindex
X-PUBLISHED-TTL:PT1H
BEGIN:VTIMEZONE
TZID:Europe/Brussels
BEGIN:DAYLIGHT
TZOFFSETFROM:+0100
TZOFFSETTO:+0200
TZNAME:CEST
DTSTART:20240331T010000
END:DAYLIGHT
BEGIN:STANDARD
TZOFFSETFROM:+0200
TZOFFSETTO:+0100
TZNAME:CET
DTSTART:20241027T010000
END:STANDARD
BEGIN:DAYLIGHT
TZOFFSETFROM:+0100
TZOFFSETTO:+0200
TZNAME:CEST
DTSTART:20250330T010000
END:DAYLIGHT
BEGIN:STANDARD
TZOFFSETFROM:+0200
TZOFFSETTO:+0100
TZNAME:CET
DTSTART:20251026T010000
END:STANDARD
BEGIN:DAYLIGHT
TZOFFSETFROM:+0100
TZOFFSETTO:+0200
TZNAME:CEST
DTSTART:20260329T010000
END:DAYLIGHT
BEGIN:STANDARD
TZOFFSETFROM:+0200
TZOFFSETTO:+0100
TZNAME:CET
DTSTART:20261025T010000
END:STANDARD
END:VTIMEZONE
BEGIN:VEVENT
DTSTART;TZID=Europe/Brussels:20250925T133000
DTEND;TZID=Europe/Brussels:20250925T163000
DTSTAMP:20260419T163332
CREATED:20241127T152649Z
LAST-MODIFIED:20250828T085720Z
UID:41076-1758807000-1758817800@akt-ccih.be
SUMMARY:Mini-cycle Douanes (1/2) : Maîtrisez IDMS pour optimiser vos déclarations d'importation
DESCRIPTION:Vous évoluez dans l’importation\, la logistique ou la gestion douanière ? Le secteur connaît une mutation majeure grâce à la digitalisation\, notamment avec le déploiement du nouveau système IDMS (Import Declaration Management System)\, qui optimise et sécurise la gestion de vos déclarations d’importation.\nAu programme de cette formation pratique et accessible à tous : \n\nPrise en main des principales fonctionnalités d’IDMS\nDémonstrations pour réaliser vos déclarations rapidement et sans erreur\nConseils concrets pour rester en conformité avec la nouvelle réglementation\n\nAucune compétence technique avancée n’est requise : notre formatrice vous accompagnera pas à pas\, à travers des cas concrets adaptés à votre activité. \nSaisissez cette opportunité pour maîtriser les enjeux  numériques dans la gestion douanière\, simplifier vos opérations et gagner en efficacité dès maintenant. \nFormatrice\nVéronique Koninckx\, MSBD \nPublic cible\n\nResponsables commerciaux\nEmployés des services import\, douanes\, logistique.\netc.\n\nTarifs\nGratuit pour les membres AKT CCI Hainaut et les clients de Burniaux Consulting \, 140 € HTVA pour les non-membres. \nModalités d’inscription\nToute annulation doit nous être signalée par écrit au moins 3 jours ouvrables avant la date de l’activité. En cas d’absence à la formation ou d’une annulation tardive\, 50 € HTVA seront facturés aux membres et invités\, pour les non-membres\, la totalité des frais sera due. \nContact\nNatalia Ostach (tel. 065/22.65.08)\, Rachaa Ketita (tel. 065/63.25.68)\, inscription@akt-ccih.be \nAvec le soutien de
URL:https://akt-ccih.be/evenement/prenez-une-longueur-davance-avec-le-nouveau-logiciel-idms/
LOCATION:Hôtel Ibis Styles La Louvière\, Rue De Wavrin 3\, La Louvière\, 7110\, Belgique
CATEGORIES:Formation
ATTACH;FMTTYPE=image/png:https://akt-ccih.be/wp-content/uploads/2024/11/pexels-tomfisk-3057963-2.png
END:VEVENT
END:VCALENDAR