BEGIN:VCALENDAR
VERSION:2.0
PRODID:-//AKT CCI Hainaut - ECPv6.15.18//NONSGML v1.0//EN
CALSCALE:GREGORIAN
METHOD:PUBLISH
X-ORIGINAL-URL:https://akt-ccih.be
X-WR-CALDESC:Évènements pour AKT CCI Hainaut
REFRESH-INTERVAL;VALUE=DURATION:PT1H
X-Robots-Tag:noindex
X-PUBLISHED-TTL:PT1H
BEGIN:VTIMEZONE
TZID:Europe/Brussels
BEGIN:DAYLIGHT
TZOFFSETFROM:+0100
TZOFFSETTO:+0200
TZNAME:CEST
DTSTART:20240331T010000
END:DAYLIGHT
BEGIN:STANDARD
TZOFFSETFROM:+0200
TZOFFSETTO:+0100
TZNAME:CET
DTSTART:20241027T010000
END:STANDARD
BEGIN:DAYLIGHT
TZOFFSETFROM:+0100
TZOFFSETTO:+0200
TZNAME:CEST
DTSTART:20250330T010000
END:DAYLIGHT
BEGIN:STANDARD
TZOFFSETFROM:+0200
TZOFFSETTO:+0100
TZNAME:CET
DTSTART:20251026T010000
END:STANDARD
BEGIN:DAYLIGHT
TZOFFSETFROM:+0100
TZOFFSETTO:+0200
TZNAME:CEST
DTSTART:20260329T010000
END:DAYLIGHT
BEGIN:STANDARD
TZOFFSETFROM:+0200
TZOFFSETTO:+0100
TZNAME:CET
DTSTART:20261025T010000
END:STANDARD
END:VTIMEZONE
BEGIN:VEVENT
DTSTART;TZID=Europe/Brussels:20250513T130000
DTEND;TZID=Europe/Brussels:20250513T153000
DTSTAMP:20260419T232657
CREATED:20241213T154458Z
LAST-MODIFIED:20250424T134703Z
UID:41099-1747141200-1747150200@akt-ccih.be
SUMMARY:Facturation électronique : Anticipez 2026 et maîtrisez les factures structurées dès aujourd’hui ! - 2ème édition / disponible uniquement en distanciel
DESCRIPTION:Le nombre de places en présentiel étant atteint\, il est désormais uniquement possible de suivre cette formation à distance.\nLa facturation électronique : une obligation dès 2026\, une opportunité dès aujourd’hui !\nD’ici 2026\, la Belgique rendra la facturation électronique obligatoire pour la majorité des transactions B2B locales\, qu’il s’agisse d’entreprises belges ou d’établissements fixes d’entreprises étrangères. Les incitations fiscales\, quant à elles\, entreront en vigueur dès 2025 pour encourager cette transition. \nAu delà d’une simple obligation réglementaire\, la facturation électronique représente une chance unique de moderniser vos processus\, réduire vos coûts et renforcer vos relations fournisseurs. Bien préparée\, cette évolution peut devenir un véritable levier d’efficacité et un atout concurrentiel pour votre entreprise. \nPourquoi agir maintenant ? \n\nAnticipez les défis et évitez les retards coûteux\nProfitez des avantages fiscaux dès 2025\nTransformez une contrainte en une opportunité de développement durable\n\nCette formation vous permettra de : \n\nComprendre le cadre réglementaire et les enjeux de la facturation électronique\, notamment son obligation progressive en Europe.\nDécouvrir le fonctionnement du réseau PEPPOL et son intégration dans un logiciel de gestion\, avec un focus sur l’exemple d’Odoo pour automatiser et sécuriser l’échange de factures dématérialisées.\nÀ travers des cas pratiques\, vous apprendrez à configurer votre outil\, assurer la conformité et optimiser vos processus comptables.\n\nIntervenants\nValentine Vigneron\, Nicholas Hendrickx (BDO) et François Burniaux (Burniaux Consulting) \nPublic cible\nToutes entreprises\, indépendants et professionnels concernés par la transition vers la facturation électronique \nTarifs\nGratuit pour les membres AKT CCI Hainaut et les clients de Burniaux Consulting\, 90 € HTVA pour les non-membres \nSéminaire Hybride\nLe nombre de places en présentiel étant atteint\, cette formation est désormais accessible uniquement  à distance. Un lien de connexion vous sera envoyé la veille de la session. \nModalités d’inscription\nToute annulation doit nous être signalée par écrit au moins 3 jours ouvrables avant la date de l’activité. En cas d’absence à la formation ou d’une annulation tardive\, 45 € HTVA seront facturés aux membres et invités; pour les non-membres\, la totalité des frais sera due. \nContact\nNatalia Ostach (tel. 065/22.65.08)\, Rachaa Ketita (tel. 065/63.25.68)\, inscription@akt-ccih.be \nAvec le soutien de\n \n 
URL:https://akt-ccih.be/evenement/facturation-electronique-anticipez-2026-et-maitrisez-les-factures-structurees-des-aujourdhui/
LOCATION:EDW Formation\, Rue Léon Moyaux 21\, La Louvière\, 7100\, Belgium
CATEGORIES:Formation
ATTACH;FMTTYPE=image/jpeg:https://akt-ccih.be/wp-content/uploads/2024/12/pexels-ivan-samkov-7621136.jpg
END:VEVENT
END:VCALENDAR