BEGIN:VCALENDAR
VERSION:2.0
PRODID:-//AKT CCI Hainaut - ECPv6.15.18//NONSGML v1.0//EN
CALSCALE:GREGORIAN
METHOD:PUBLISH
X-WR-CALNAME:AKT CCI Hainaut
X-ORIGINAL-URL:https://akt-ccih.be
X-WR-CALDESC:Évènements pour AKT CCI Hainaut
REFRESH-INTERVAL;VALUE=DURATION:PT1H
X-Robots-Tag:noindex
X-PUBLISHED-TTL:PT1H
BEGIN:VTIMEZONE
TZID:Europe/Brussels
BEGIN:DAYLIGHT
TZOFFSETFROM:+0100
TZOFFSETTO:+0200
TZNAME:CEST
DTSTART:20240331T010000
END:DAYLIGHT
BEGIN:STANDARD
TZOFFSETFROM:+0200
TZOFFSETTO:+0100
TZNAME:CET
DTSTART:20241027T010000
END:STANDARD
BEGIN:DAYLIGHT
TZOFFSETFROM:+0100
TZOFFSETTO:+0200
TZNAME:CEST
DTSTART:20250330T010000
END:DAYLIGHT
BEGIN:STANDARD
TZOFFSETFROM:+0200
TZOFFSETTO:+0100
TZNAME:CET
DTSTART:20251026T010000
END:STANDARD
BEGIN:DAYLIGHT
TZOFFSETFROM:+0100
TZOFFSETTO:+0200
TZNAME:CEST
DTSTART:20260329T010000
END:DAYLIGHT
BEGIN:STANDARD
TZOFFSETFROM:+0200
TZOFFSETTO:+0100
TZNAME:CET
DTSTART:20261025T010000
END:STANDARD
END:VTIMEZONE
BEGIN:VEVENT
DTSTART;TZID=Europe/Brussels:20250401T090000
DTEND;TZID=Europe/Brussels:20250415T163000
DTSTAMP:20260420T010447
CREATED:20250206T124522Z
LAST-MODIFIED:20250306T082206Z
UID:41448-1743498000-1744734600@akt-ccih.be
SUMMARY:Comptabilité pour les nuls
DESCRIPTION:Deux jours\, deux jeux pour apprendre et comprendre les bases du langage de la finance   \nVous aimeriez mieux comprendre les chiffres qui font vivre votre entreprise ? La comptabilité et la finance vous semblent compliquées ? Participez à notre formation immersive de 2 jours et découvrez\, à travers deux jeux interactifs\, comment décoder facilement les bases financières essentielles.  \nAu programme :\nLe 1 avril 2025 – Le jeu des comptes de l’entreprise : plongez dans la comptabilité générale et comprenez enfin les notions clés du bilan\, du compte de résultats\, des amortissements et du financement des investissements. \nLe 15 avril 2025 – La dynamique financière de l’entreprise : apprenez à mesurer l’activité\, évaluer la rentabilité et analyser l’endettement avec des indicateurs simples et concrets. \n\n Une approche ludique et pédagogique pour apprendre sans stress\n Des cas pratiques et des mises en situation réelles\n Une meilleure compréhension pour une prise de décision éclairée\n\nNe manquez pas cette opportunité d’apprendre la finance autrement ! Inscrivez-vous dès maintenant et faites de la comptabilité un atout pour votre entreprise. \nIntervenants\nMichel Flagothier\, Ceneco Belgium et Magali Herman\, Maître de conférences à l’Université de Liège \nPublic cible\nToute personne désireuse d’approfondir ses connaissances en comptabilité d’entreprise \nTarifs (2 journées de formation)\n510 € HTVA pour les membres d’AKT CCIH\, 650 € HTVA pour les non-membres (l’ouvrage « Dixeco d’entreprise »\, documentation et lunch sandwiches inclus). \nModalités d’inscription\nToute annulation doit nous être signalée par écrit au moins 5 jours ouvrables avant la date de l’activité. En cas d’absence à la formation ou d’une annulation tardive\, la totalité des frais sera due quel qu’en soit le motif. Les participants peuvent se faire remplacer. \nContact\nNatalia Ostach (tel. 065/22.65.08)\, Rachaa Ketita (tel. 065/63.25.68)\, inscription@akt-ccih.be
URL:https://akt-ccih.be/evenement/comptabilite-pour-les-nuls/
LOCATION:Technocampus\, Quai du Pont Canal 5\, La Louvière\, 7110\, Belgium
CATEGORIES:Formation
ATTACH;FMTTYPE=image/jpeg:https://akt-ccih.be/wp-content/uploads/2025/02/pexels-n-voitkevich-6863260.jpg
END:VEVENT
BEGIN:VEVENT
DTSTART;TZID=Europe/Brussels:20250403T090000
DTEND;TZID=Europe/Brussels:20250403T123000
DTSTAMP:20260420T010447
CREATED:20250220T160938Z
LAST-MODIFIED:20250319T083255Z
UID:41552-1743670800-1743683400@akt-ccih.be
SUMMARY:Comprendre l’IA et son cadre légal
DESCRIPTION:Au programme\n\nIntroduction & Quiz interactif – Évaluer la perception et les connaissances actuelles sur l’IA.\nComprendre l’IA et son cadre légal – Définition\, cas d’usage et obligations de la nouvelle loi européenne.\nGérer les risques et assurer la transparence – Bonnes pratiques pour intégrer l’IA de façon éthique et efficace.\nOutils et solutions pratiques – Exemples concrets et conseils adaptés aux PME.\nQ&A et synthèse – Échange et clarification des points abordés.\n\nObjectif\nDémystifier l’IA\, aider à mieux cerner les enjeux éthiques\, réglementaires et fournir des clés d’action pour l’intégrer sereinement dans un contexte professionnel. \nIntervenant\nSalomon BESSO\, Formateur AI & Expert Chatgpt (Interskillar) \nPublic cible\nToute personne concernée par le sujet \nTarif\n150 € HTVA pour les membres d’AKT CCI Hainaut\, 225 € HTVA pour les non-membres \nModalités d’inscription\nToute annulation doit nous être signalée par écrit au moins 5 jours ouvrables avant la date de l’activité. En cas d’absence à la formation ou d’une annulation tardive\, la totalité des frais d’inscription sera due. Les participants peuvent se faire remplacer. \nContact\nNatalia Ostach (tel. 065/22.65.08)\, Rachaa Ketita (tel. 065/63.25.68)\, inscription@akt-ccih.be
URL:https://akt-ccih.be/evenement/comprendre-lia-et-son-cadre-legal/
LOCATION:Hôtel Ibis Styles La Louvière\, Rue De Wavrin 3\, La Louvière\, 7110\, Belgique
CATEGORIES:Formation
ATTACH;FMTTYPE=image/jpeg:https://akt-ccih.be/wp-content/uploads/2014/07/Formations-rouages.jpg
END:VEVENT
END:VCALENDAR