BEGIN:VCALENDAR
VERSION:2.0
PRODID:-//AKT CCI Hainaut - ECPv6.15.18//NONSGML v1.0//EN
CALSCALE:GREGORIAN
METHOD:PUBLISH
X-WR-CALNAME:AKT CCI Hainaut
X-ORIGINAL-URL:https://akt-ccih.be
X-WR-CALDESC:Évènements pour AKT CCI Hainaut
REFRESH-INTERVAL;VALUE=DURATION:PT1H
X-Robots-Tag:noindex
X-PUBLISHED-TTL:PT1H
BEGIN:VTIMEZONE
TZID:Europe/Brussels
BEGIN:DAYLIGHT
TZOFFSETFROM:+0100
TZOFFSETTO:+0200
TZNAME:CEST
DTSTART:20230326T010000
END:DAYLIGHT
BEGIN:STANDARD
TZOFFSETFROM:+0200
TZOFFSETTO:+0100
TZNAME:CET
DTSTART:20231029T010000
END:STANDARD
BEGIN:DAYLIGHT
TZOFFSETFROM:+0100
TZOFFSETTO:+0200
TZNAME:CEST
DTSTART:20240331T010000
END:DAYLIGHT
BEGIN:STANDARD
TZOFFSETFROM:+0200
TZOFFSETTO:+0100
TZNAME:CET
DTSTART:20241027T010000
END:STANDARD
BEGIN:DAYLIGHT
TZOFFSETFROM:+0100
TZOFFSETTO:+0200
TZNAME:CEST
DTSTART:20250330T010000
END:DAYLIGHT
BEGIN:STANDARD
TZOFFSETFROM:+0200
TZOFFSETTO:+0100
TZNAME:CET
DTSTART:20251026T010000
END:STANDARD
END:VTIMEZONE
BEGIN:VEVENT
DTSTART;TZID=Europe/Brussels:20241203T090000
DTEND;TZID=Europe/Brussels:20241203T163000
DTSTAMP:20260420T090015
CREATED:20241023T132652Z
LAST-MODIFIED:20241023T132652Z
UID:40971-1733216400-1733243400@akt-ccih.be
SUMMARY:Prospection téléphonique : obtenez des rendez-vous avec de nouveaux clients
DESCRIPTION:Ne pas prospecter par téléphone\, c’est se couper de 40 % de son potentiel de vente. Bien sûr\, il y a les nouvelles technologies\, mais elles ne remplacent pas encore totalement le bon vieux coup de téléphone. On en est loin même. Alors en attendant que ce jour arrive\, il faut décrocher son téléphone et prospecter.\nMÉTHODE : \nLors de cette formation\, vous viendrez avec une liste de 50 à 75 prospects et nous passerons à l’action. Vous obtiendrez des rendez-vous ! Nous passerons de la théorie à la pratique.\nL’expert formateur sera là pour vous aider à affiner votre « pitch » et pour vous guider dans ce qu’il faut dire et ce qu’il faut éviter. Il vous expliquera également comment balayer les objections que l’on vous opposera. \nOBJECTIFS : \n\nÇa ne sera pas facile\, mais grâce à cette formation vous apprendrez :\nCe qui se fait et ce qui ne se fait pas dans la prospection téléphonique\nUne manière ludique de procéder\nÀ vous créer un script personnalisé\nPlusieurs façons de répondre du « tac au tac » aux objections spontanées\nDes techniques pour lever les barrages téléphoniques\nÀ conclure un rendez-vous de prospection\nÀ prendre du plaisir à prospecter par téléphone\n\nImportant : Les participants doivent venir avec leur listing de prospects et leur téléphone bien chargé. \nPublic cible :\nResponsable commerciaux\, commerciaux… \nIntervenant :\nXavier Teichmann\, Oxymore Company \nCoûts :\n320 € HTVA pour les membres de l’AKT CCIH\, 480 € HTVA pour les non-membres documentation\, outils et lunch sandwiches inclus. \nInfos et inscriptions :\nformations@akt-ccih.be \nModalités d’inscription :\nToute annulation doit nous être signalée par écrit au moins 5 jours ouvrables avant la date de l’activité. En cas d’absence à la formation ou d’une annulation tardive\, la totalité des frais d’inscription sera due quel que soit le motif de l’annulation. Les participants peuvent se faire remplacer.
URL:https://akt-ccih.be/evenement/prospection-telephonique-obtenez-des-rendez-vous-avec-de-nouveaux-clients/
LOCATION:AKT CCI Hainaut\, Bâtiment Initium Boulevard André Delvaux 15\, Mons\, 7000\, Belgium
CATEGORIES:Formation
END:VEVENT
END:VCALENDAR