BEGIN:VCALENDAR
VERSION:2.0
PRODID:-//AKT CCI Hainaut - ECPv6.15.18//NONSGML v1.0//EN
CALSCALE:GREGORIAN
METHOD:PUBLISH
X-WR-CALNAME:AKT CCI Hainaut
X-ORIGINAL-URL:https://akt-ccih.be
X-WR-CALDESC:Évènements pour AKT CCI Hainaut
REFRESH-INTERVAL;VALUE=DURATION:PT1H
X-Robots-Tag:noindex
X-PUBLISHED-TTL:PT1H
BEGIN:VTIMEZONE
TZID:Europe/Brussels
BEGIN:DAYLIGHT
TZOFFSETFROM:+0100
TZOFFSETTO:+0200
TZNAME:CEST
DTSTART:20230326T010000
END:DAYLIGHT
BEGIN:STANDARD
TZOFFSETFROM:+0200
TZOFFSETTO:+0100
TZNAME:CET
DTSTART:20231029T010000
END:STANDARD
BEGIN:DAYLIGHT
TZOFFSETFROM:+0100
TZOFFSETTO:+0200
TZNAME:CEST
DTSTART:20240331T010000
END:DAYLIGHT
BEGIN:STANDARD
TZOFFSETFROM:+0200
TZOFFSETTO:+0100
TZNAME:CET
DTSTART:20241027T010000
END:STANDARD
BEGIN:DAYLIGHT
TZOFFSETFROM:+0100
TZOFFSETTO:+0200
TZNAME:CEST
DTSTART:20250330T010000
END:DAYLIGHT
BEGIN:STANDARD
TZOFFSETFROM:+0200
TZOFFSETTO:+0100
TZNAME:CET
DTSTART:20251026T010000
END:STANDARD
END:VTIMEZONE
BEGIN:VEVENT
DTSTART;TZID=Europe/Brussels:20240919T133000
DTEND;TZID=Europe/Brussels:20240919T163000
DTSTAMP:20260422T150308
CREATED:20240906T152601Z
LAST-MODIFIED:20240909T151424Z
UID:38849-1726752600-1726763400@akt-ccih.be
SUMMARY:Entretien de recrutement
DESCRIPTION:Cycle “Entretiens individuels” p. 1 : Entretien de recrutement\nObjectifs pédagogiquesA la fin de la formation\, le participant sera capable :• de mettre en place un processus de recrutement efficace• de limiter le risque d’erreur de casting• de potentialiser la qualité de relation avec le collaborateur choisi \nMéthode de recrutement• Etapes du recrutement : Les différentes phases du processus de recrutement.• L’entretien et sa structure : Construction d’entretiens structurés pour des évaluations cohérentes.• Les objectifs de l’entretien : Clarification des objectifs à atteindre à chaque étape de l’entretien.• Bien clôturer l’entretien : Importance d’une conclusion efficace pour laisser une impression positive.• Evaluer les candidats et faire son choix : Méthodes d’évaluation pour prendre des décisions informées.• Adapter sa méthode de recrutement à ses besoins : Flexibilité dans l’approche pour s’adapter aux spécificités de chaque recrutement. \nAvec le soutien de\n \n \nContact\nNatalia Ostach 065226508\, formations@akt-ccih.be \nAdresse\nHôtel Ibisrue de Wavrin\, 3Ouvrir l’adresse dans Google Maps \nIntervenant(s)\nRosetta Leone\, Happiness consult \nPublic-cible\nDirigeants d’entreprises\, directeurs et employés des services RH \nTarif(s)\ngratuit pour les membres et les clients de Robert Half\, BHC et XEFI\, 140 € HTVA pour les non-membres \nModalités d’inscription\nToute annulation doit nous être signalée par écrit au moins 3 jours ouvrables avant la date de l’activité. En cas d’absence à la formation ou d’une annulation tardive\, 50 € HTVA seront facturés aux membres et invités\, pour les non-membres\, la totalité des frais d’inscription sera due. Les inscrits peuvent se faire remplacer.
URL:https://akt-ccih.be/evenement/entretien-de-recrutement/
LOCATION:Hôtel Ibis Styles La Louvière\, Rue De Wavrin 3\, La Louvière\, 7110\, Belgique
CATEGORIES:Formation
END:VEVENT
END:VCALENDAR